BEGIN:VCALENDAR
VERSION:2.0
PRODID:-//OPSWA EVENTS - ECPv6.15.20//NONSGML v1.0//EN
CALSCALE:GREGORIAN
METHOD:PUBLISH
X-WR-CALNAME:OPSWA EVENTS
X-ORIGINAL-URL:https://events.ontariopswassociation.com
X-WR-CALDESC:Events for OPSWA EVENTS
REFRESH-INTERVAL;VALUE=DURATION:PT1H
X-Robots-Tag:noindex
X-PUBLISHED-TTL:PT1H
BEGIN:VTIMEZONE
TZID:America/Los_Angeles
BEGIN:DAYLIGHT
TZOFFSETFROM:-0800
TZOFFSETTO:-0700
TZNAME:PDT
DTSTART:20250309T100000
END:DAYLIGHT
BEGIN:STANDARD
TZOFFSETFROM:-0700
TZOFFSETTO:-0800
TZNAME:PST
DTSTART:20251102T090000
END:STANDARD
BEGIN:DAYLIGHT
TZOFFSETFROM:-0800
TZOFFSETTO:-0700
TZNAME:PDT
DTSTART:20260308T100000
END:DAYLIGHT
BEGIN:STANDARD
TZOFFSETFROM:-0700
TZOFFSETTO:-0800
TZNAME:PST
DTSTART:20261101T090000
END:STANDARD
BEGIN:DAYLIGHT
TZOFFSETFROM:-0800
TZOFFSETTO:-0700
TZNAME:PDT
DTSTART:20270314T100000
END:DAYLIGHT
BEGIN:STANDARD
TZOFFSETFROM:-0700
TZOFFSETTO:-0800
TZNAME:PST
DTSTART:20271107T090000
END:STANDARD
END:VTIMEZONE
BEGIN:VEVENT
DTSTART;TZID=America/Los_Angeles:20260525T070000
DTEND;TZID=America/Los_Angeles:20260525T100000
DTSTAMP:20260421T061645
CREATED:20260323T051412Z
LAST-MODIFIED:20260417T182505Z
UID:200-1779692400-1779703200@events.ontariopswassociation.com
SUMMARY:OPSWA JOB FAIR
DESCRIPTION:Monday\, May 25\, 2026\n11:00 AM – 2:00 PM\nAjax Community Centre\nHMS Community Room\n75 Centennial Road\nAjax\, ON \nMark your calendar and save the date. We look forward to seeing you there. \nEmployers Register Here\n \nPSWs Register Here\n \n  \n 
URL:https://events.ontariopswassociation.com/event/opswa-job-fair/
LOCATION:Ajax Community Centre\, 75 Centennial Road\, Ajax\, Ontario\, L1S 4S4\, Canada
CATEGORIES:JOB FAIRS
END:VEVENT
END:VCALENDAR